BEGIN:VCALENDAR
VERSION:2.0
PRODID:-//SMCint - ECPv6.15.20//NONSGML v1.0//EN
CALSCALE:GREGORIAN
METHOD:PUBLISH
X-WR-CALNAME:SMCint
X-ORIGINAL-URL:https://smcint.com
X-WR-CALDESC:Events for SMCint
REFRESH-INTERVAL;VALUE=DURATION:PT1H
X-Robots-Tag:noindex
X-PUBLISHED-TTL:PT1H
BEGIN:VTIMEZONE
TZID:Europe/Paris
BEGIN:DAYLIGHT
TZOFFSETFROM:+0100
TZOFFSETTO:+0200
TZNAME:CEST
DTSTART:20240331T010000
END:DAYLIGHT
BEGIN:STANDARD
TZOFFSETFROM:+0200
TZOFFSETTO:+0100
TZNAME:CET
DTSTART:20241027T010000
END:STANDARD
BEGIN:DAYLIGHT
TZOFFSETFROM:+0100
TZOFFSETTO:+0200
TZNAME:CEST
DTSTART:20250330T010000
END:DAYLIGHT
BEGIN:STANDARD
TZOFFSETFROM:+0200
TZOFFSETTO:+0100
TZNAME:CET
DTSTART:20251026T010000
END:STANDARD
BEGIN:DAYLIGHT
TZOFFSETFROM:+0100
TZOFFSETTO:+0200
TZNAME:CEST
DTSTART:20260329T010000
END:DAYLIGHT
BEGIN:STANDARD
TZOFFSETFROM:+0200
TZOFFSETTO:+0100
TZNAME:CET
DTSTART:20261025T010000
END:STANDARD
BEGIN:DAYLIGHT
TZOFFSETFROM:+0100
TZOFFSETTO:+0200
TZNAME:CEST
DTSTART:20270328T010000
END:DAYLIGHT
BEGIN:STANDARD
TZOFFSETFROM:+0200
TZOFFSETTO:+0100
TZNAME:CET
DTSTART:20271031T010000
END:STANDARD
END:VTIMEZONE
BEGIN:VEVENT
DTSTART;VALUE=DATE:20260415
DTEND;VALUE=DATE:20260418
DTSTAMP:20260420T103234
CREATED:20260417T150833Z
LAST-MODIFIED:20260417T150947Z
UID:20891-1776211200-1776470399@smcint.com
SUMMARY:Sähkö-Electricity Exhibition
DESCRIPTION:EuroSMC and OiTec Wrap Up a Successful Sähkö-Electricity Exhibition \nWe have just concluded three productive days at the Sähkö-Electricity Exhibition that took place in Helsinki on April 15–17. It was a pleasure meeting industry professionals at and discussing the latest advancements in substation testing. \nThroughout the event\, our local distributors OiTec  demonstrated the versatility of the Raptor and Prime systems at the Booth 7e104. A highlight of the show was the live demonstration by OiTec team\, where visitors saw the Raptor C-05 in action performing switch tripping\, followed by real-time data analysis using the Raptor Control software. \nThank you to everyone who stopped by! If you missed the live demos\, next month in Finland you will have a great chance to have an advanced hands-on session and join Training Seminar on May 20 at TAKK University\, Tampere.
URL:https://smcint.com/event/sahko-electricity-exhibition/
CATEGORIES:Exhibitions
END:VEVENT
BEGIN:VEVENT
DTSTART;VALUE=DATE:20250917
DTEND;VALUE=DATE:20250921
DTSTAMP:20260420T103234
CREATED:20250908T110529Z
LAST-MODIFIED:20250908T110529Z
UID:20043-1758067200-1758412799@smcint.com
SUMMARY:Electric & Power Indonesia 2025
DESCRIPTION:ASEAN’s Largest Electric & Power Exhibition\n\n\n\n\nElectric & Power Indonesia\, ASEAN’s largest Electric & Power exhibition takes place in South East Asia’s most dynamic market\, Indonesia. The Last Show attracted 566 companies and 12\,408 trade visitors.
URL:https://smcint.com/event/electric-power-indonesia-2025/
CATEGORIES:Exhibitions
END:VEVENT
END:VCALENDAR