BEGIN:VCALENDAR
VERSION:2.0
PRODID:-//SMCint - ECPv6.15.20//NONSGML v1.0//EN
CALSCALE:GREGORIAN
METHOD:PUBLISH
X-ORIGINAL-URL:https://smcint.com
X-WR-CALDESC:Events for SMCint
REFRESH-INTERVAL;VALUE=DURATION:PT1H
X-Robots-Tag:noindex
X-PUBLISHED-TTL:PT1H
BEGIN:VTIMEZONE
TZID:Europe/Paris
BEGIN:DAYLIGHT
TZOFFSETFROM:+0100
TZOFFSETTO:+0200
TZNAME:CEST
DTSTART:20150329T010000
END:DAYLIGHT
BEGIN:STANDARD
TZOFFSETFROM:+0200
TZOFFSETTO:+0100
TZNAME:CET
DTSTART:20151025T010000
END:STANDARD
BEGIN:DAYLIGHT
TZOFFSETFROM:+0100
TZOFFSETTO:+0200
TZNAME:CEST
DTSTART:20160327T010000
END:DAYLIGHT
BEGIN:STANDARD
TZOFFSETFROM:+0200
TZOFFSETTO:+0100
TZNAME:CET
DTSTART:20161030T010000
END:STANDARD
BEGIN:DAYLIGHT
TZOFFSETFROM:+0100
TZOFFSETTO:+0200
TZNAME:CEST
DTSTART:20170326T010000
END:DAYLIGHT
BEGIN:STANDARD
TZOFFSETFROM:+0200
TZOFFSETTO:+0100
TZNAME:CET
DTSTART:20171029T010000
END:STANDARD
BEGIN:DAYLIGHT
TZOFFSETFROM:+0100
TZOFFSETTO:+0200
TZNAME:CEST
DTSTART:20180325T010000
END:DAYLIGHT
BEGIN:STANDARD
TZOFFSETFROM:+0200
TZOFFSETTO:+0100
TZNAME:CET
DTSTART:20181028T010000
END:STANDARD
END:VTIMEZONE
BEGIN:VEVENT
DTSTART;VALUE=DATE:20171003
DTEND;VALUE=DATE:20171006
DTSTAMP:20260421T002905
CREATED:20170602T111243Z
LAST-MODIFIED:20170602T111521Z
UID:11584-1506988800-1507247999@smcint.com
SUMMARY:ICUEE EXPO
DESCRIPTION:Louisville\, Kentucky \nOctober 3-5\, 2017 \nBooth 3364 \nCome and Join us for circuit Breakes Tester\, Contact Resistance Test and more!!
URL:https://smcint.com/event/icuee-expo/
LOCATION:Kentucky Exposition Center\, 937 Phillips \, Louisville\, KY\, 40209\, United States
ATTACH;FMTTYPE=image/png:https://smcint.com/wp-content/uploads/2017/06/icuee.png
END:VEVENT
BEGIN:VEVENT
DTSTART;VALUE=DATE:20171002
DTEND;VALUE=DATE:20171007
DTSTAMP:20260421T002905
CREATED:20170908T140503Z
LAST-MODIFIED:20170908T141653Z
UID:12195-1506902400-1507334399@smcint.com
SUMMARY:Circuit Breaker Seminar. Test & Maintenance Training
DESCRIPTION:We are your best support in Circuit Breaker Tester and Protective Relays! \nVisit us at the Booth 22 with Legacy Power Solutions. \n  \n 
URL:https://smcint.com/event/circuit-breaker-seminar-test-maintenance-training/
LOCATION:Omni William Penn Hotel\, Booth 22\, 530 William Penn Pl\, Pittsburgh\, 15219\, United States
ATTACH;FMTTYPE=image/png:https://smcint.com/wp-content/uploads/2017/09/sshot-1.png
END:VEVENT
BEGIN:VEVENT
DTSTART;VALUE=DATE:20170918
DTEND;VALUE=DATE:20170922
DTSTAMP:20260421T002905
CREATED:20170914T103816Z
LAST-MODIFIED:20170914T104136Z
UID:12206-1505692800-1506038399@smcint.com
SUMMARY:Southeastern Distribution Apparatus School
DESCRIPTION:September 18 – 21\, 2017\, Southeastern Distribution Apparatus School\, The Hotel at Auburn University\, Auburn\, Alabama Stand SMC \nWe are your best option in Circuit Breaker tester and Protective Relays! \n  \n 
URL:https://smcint.com/event/southeastern-distribution-apparatus-school/
LOCATION:The Hotel at Auburn University\, 241 S. College St\,\, Auburn\, AL\, 36830\, United States
END:VEVENT
BEGIN:VEVENT
DTSTART;VALUE=DATE:20170913
DTEND;VALUE=DATE:20170917
DTSTAMP:20260421T002905
CREATED:20170906T100846Z
LAST-MODIFIED:20170906T105256Z
UID:12186-1505260800-1505606399@smcint.com
SUMMARY:Biel Light + Building
DESCRIPTION:Stand Hertig 3D-30 \nWe are your best support in Circuit Breaker Tester and Protective Relays!
URL:https://smcint.com/event/biel-light-building/
LOCATION:La Rural Predio Ferial\, Av. Sarmiento 2704\, Av. Santa Fe 4201\, Juncal\, Buenos Aires\, 4201\, Argentina
ATTACH;FMTTYPE=image/png:https://smcint.com/wp-content/uploads/2017/09/biel.png
END:VEVENT
BEGIN:VEVENT
DTSTART;VALUE=DATE:20170912
DTEND;VALUE=DATE:20170915
DTSTAMP:20260421T002905
CREATED:20170217T144039Z
LAST-MODIFIED:20170228T121440Z
UID:11299-1505174400-1505433599@smcint.com
SUMMARY:30th Energetab
DESCRIPTION:Bielsko-Biala International Power Industry Fair 2017 \nInternational Power Industry Fair \nWe are your best option in Contact Resistance Test and Protective Relays.
URL:https://smcint.com/event/30th-energetab/
LOCATION:Buenos Aires
ATTACH;FMTTYPE=image/jpeg:https://smcint.com/wp-content/uploads/2017/02/Energetab.jpg
END:VEVENT
BEGIN:VEVENT
DTSTART;VALUE=DATE:20170625
DTEND;VALUE=DATE:20170630
DTSTAMP:20260421T002905
CREATED:20170602T110539Z
LAST-MODIFIED:20170602T110539Z
UID:11578-1498348800-1498780799@smcint.com
SUMMARY:North Carolina Meter School & Grid Technology Conference
DESCRIPTION:Embassy Suites at Kingston Plantation \nMyrtle Beach\, South Carolina \nJune 25-29 \, 2017 \nBooth 46 \nCome and Join us for circuit Breakes Tester\, Contact Resistance Test and more!!
URL:https://smcint.com/event/north-carolina-meter-school-grid-technology-conference/
LOCATION:Embassy Suites at Kingston Plantation\, 9800 Queensway Boulevard\, Myrtle Beach\, SC\, 289572\, United States
ATTACH;FMTTYPE=image/jpeg:https://smcint.com/wp-content/uploads/2017/06/north-carolina.jpg
END:VEVENT
BEGIN:VEVENT
DTSTART;VALUE=DATE:20170612
DTEND;VALUE=DATE:20170616
DTSTAMP:20260421T002905
CREATED:20170220T125405Z
LAST-MODIFIED:20170228T121205Z
UID:11321-1497225600-1497571199@smcint.com
SUMMARY:Cired - Glasgow\, Scotland
DESCRIPTION:Your Best Option in Protective Relays!
URL:https://smcint.com/event/cired-glasgow-scotland/
LOCATION:The Scottish Exhibition and Conference Centre (SECC)\, Exhibition Way\, Glasgow\, Scotland\, G3 8YW\, United Kingdom
ATTACH;FMTTYPE=image/jpeg:https://smcint.com/wp-content/uploads/2017/02/cired-glasgow-1.jpg
END:VEVENT
BEGIN:VEVENT
DTSTART;VALUE=DATE:20170521
DTEND;VALUE=DATE:20170526
DTSTAMP:20260421T002905
CREATED:20170217T123912Z
LAST-MODIFIED:20170228T123235Z
UID:11275-1495324800-1495756799@smcint.com
SUMMARY:XVII ERIAC - Encuentro Regional Iberoamericano del Cigre
DESCRIPTION:21 al 25 de Mayo de 2017 \nCiudad del Este \nParaguay \nYour best Option in Protective Relays\, Contact Resistance Test\, Current Transformer Testing\, Power Transformer Testing
URL:https://smcint.com/event/xvii-eriac-encuentro-regional-iberoamericano-del-cigre/
LOCATION:ERIC\, Ciudad del Este\, Paraguay
ATTACH;FMTTYPE=image/jpeg:https://smcint.com/wp-content/uploads/2017/02/XVII-Encuentro-Regional-Iberoamericano-del-CIGRE.jpg
END:VEVENT
BEGIN:VEVENT
DTSTART;VALUE=DATE:20170504
DTEND;VALUE=DATE:20170505
DTSTAMP:20260421T002905
CREATED:20170504T102041Z
LAST-MODIFIED:20170504T104333Z
UID:11449-1493856000-1493942399@smcint.com
SUMMARY:Global Electric Power Tech 2017
DESCRIPTION:Your best Option for Protective Relays and Circuit Breaker Tester.
URL:https://smcint.com/event/global-electric-power-tech-2017/
LOCATION:COEX\, 159 Samsung-dong\, Kangnam-gu\, Seoul\, Seoul\, 135-731\, Korea\, Republic Of
ATTACH;FMTTYPE=image/png:https://smcint.com/wp-content/uploads/2017/05/coex.png
END:VEVENT
BEGIN:VEVENT
DTSTART;VALUE=DATE:20170321
DTEND;VALUE=DATE:20170325
DTSTAMP:20260421T002905
CREATED:20170216T153902Z
LAST-MODIFIED:20170228T123314Z
UID:11255-1490054400-1490399999@smcint.com
SUMMARY:Amper
DESCRIPTION:25th International Trade Fair of Electrotechnics\, Electronics\, Automation\, Communication\, Lighting\, and Security Technologies \nStand En-Centrum \nNo. V 3.11 Hal V \nYour best Option in Protective Relays\, Contact Resistance Test\, Current Transformer Testing\, Power Transformer Testing \n 
URL:https://smcint.com/event/amper/
LOCATION:Brno Exhibition Centre\, Výstaviště 405/1\, Brno-střed\, Brno-střed\, 603 00\, Czech Republic
ATTACH;FMTTYPE=image/jpeg:https://smcint.com/wp-content/uploads/2017/02/Amper.jpg
END:VEVENT
BEGIN:VEVENT
DTSTART;VALUE=DATE:20170227
DTEND;VALUE=DATE:20170301
DTSTAMP:20260421T002905
CREATED:20170123T104227Z
LAST-MODIFIED:20170228T125602Z
UID:11132-1488153600-1488326399@smcint.com
SUMMARY:NETA PowerTest Conference & Exhibition
DESCRIPTION:February 28: Stand: SMC – Booth 122 \nYour best Option in Protective Relays\, Contact Resistance Test \n 
URL:https://smcint.com/event/neta-powertest-conference-exhibition/
LOCATION:Disneyland Hotel\, 1150 West Magic Way \, Anaheim\, CA\, 92802\, United States
ATTACH;FMTTYPE=image/png:https://smcint.com/wp-content/uploads/2017/01/neta.png
END:VEVENT
BEGIN:VEVENT
DTSTART;VALUE=DATE:20170220
DTEND;VALUE=DATE:20170221
DTSTAMP:20260421T002905
CREATED:20170217T121130Z
LAST-MODIFIED:20170228T125743Z
UID:11266-1487548800-1487635199@smcint.com
SUMMARY:SMC Workshop - Dubai
DESCRIPTION:Your Best Option in Protective Relays.
URL:https://smcint.com/event/smc-workshop-dubai/
LOCATION:Crowne Plaza Hotel\, Sheikh Zayed Road\, Deira Dubai \, Dubai\, United Arab Emirates
ATTACH;FMTTYPE=image/jpeg:https://smcint.com/wp-content/uploads/2017/02/SMC-invitation2017.jpg
END:VEVENT
BEGIN:VEVENT
DTSTART;VALUE=DATE:20170219
DTEND;VALUE=DATE:20170225
DTSTAMP:20260421T002905
CREATED:20170216T152306Z
LAST-MODIFIED:20170216T152722Z
UID:11246-1487462400-1487980799@smcint.com
SUMMARY:Simposio Iberoamericano sobre Protección de Sistemas Eléctricos de Potencia
DESCRIPTION:
URL:https://smcint.com/event/simposio-iberoamericano-sobre-proteccion-de-sistemas-electricos-de-potencia/
LOCATION:Crowne Plaza Monterey\, Av. Constitucion Ote. 300\, Centro\, Monterrey\, Nuevo Leon\, 64000\, Mexico
ATTACH;FMTTYPE=image/jpeg:https://smcint.com/wp-content/uploads/2017/02/SIPSEP.jpg
END:VEVENT
BEGIN:VEVENT
DTSTART;VALUE=DATE:20170214
DTEND;VALUE=DATE:20170217
DTSTAMP:20260421T002905
CREATED:20170119T160344Z
LAST-MODIFIED:20170119T160445Z
UID:11116-1487030400-1487289599@smcint.com
SUMMARY:Middle East Electricity
DESCRIPTION:February 14-16\, 2017  Middle East Electricity\, Dubai Trade Centre\, UAE.  Stand SMC\, Hall 4- A40
URL:https://smcint.com/event/middle-east-electricity/
LOCATION:Dubai World Trade Centre\, Dubai\, Dubai\, United Arab Emirates
ATTACH;FMTTYPE=image/png:https://smcint.com/wp-content/uploads/2017/01/meee.png
END:VEVENT
BEGIN:VEVENT
DTSTART;VALUE=DATE:20170119
DTEND;VALUE=DATE:20170120
DTSTAMP:20260421T002905
CREATED:20170123T101819Z
LAST-MODIFIED:20170123T101948Z
UID:11123-1484784000-1484870399@smcint.com
SUMMARY:JM Test Systems 2017
DESCRIPTION:Vendor Trade Show \nCrowne Plaza Executive Center \n4728 Constitution Ave.\, \nBaton Rouge Lousiana \nUSA \nStand SMC
URL:https://smcint.com/event/jm-test-systems-2017/
LOCATION:Crowne Plaza Executive Center\, 4728 Constitution Ave\, Baton Rouge\, Louisiana\, 70808\, United States
ATTACH;FMTTYPE=image/png:https://smcint.com/wp-content/uploads/2017/01/sshot-1.png
END:VEVENT
BEGIN:VEVENT
DTSTART;VALUE=DATE:20161123
DTEND;VALUE=DATE:20161127
DTSTAMP:20260421T002905
CREATED:20160829T093851Z
LAST-MODIFIED:20160829T095128Z
UID:10668-1479859200-1480204799@smcint.com
SUMMARY:41st Institute of Integrated Electrical Engineers Annual National Convention
DESCRIPTION:Our Partner West Point Engineering Supplies is going to participate in this event from November 23rd to 26th. Will be held in SMX Convention Center\, SM\, Mall of Asia\, Pasay City
URL:https://smcint.com/event/41st-iiee-annual-national-convention-2/
LOCATION:SMX Convention Center\, SM Mall of Asia\, Pasay City\, Manila\, 1300\, Philippines
ATTACH;FMTTYPE=image/png:https://smcint.com/wp-content/uploads/2016/08/sshot-1-7.png
END:VEVENT
BEGIN:VEVENT
DTSTART;VALUE=DATE:20161123
DTEND;VALUE=DATE:20161127
DTSTAMP:20260421T002905
CREATED:20160805T130346Z
LAST-MODIFIED:20160805T131852Z
UID:10596-1479859200-1480204799@smcint.com
SUMMARY:41st IIEE Annual National Convention
DESCRIPTION:Institute of Integrated of Electrical Engineers of the Philippines Inc. \nSMC together Wespoint Engineering Supplies will participate in this event. \n 
URL:https://smcint.com/event/41st-iiee-annual-national-convention/
LOCATION:SMX Convention Center\, Seashell Ln\, Pasay\, Metro Manila\, 1300\, Philippines
ATTACH;FMTTYPE=image/png:https://smcint.com/wp-content/uploads/2016/08/sshot-1-2.png
END:VEVENT
BEGIN:VEVENT
DTSTART;VALUE=DATE:20161110
DTEND;VALUE=DATE:20161114
DTSTAMP:20260421T002905
CREATED:20160826T142723Z
LAST-MODIFIED:20160826T142929Z
UID:10652-1478736000-1479081599@smcint.com
SUMMARY:Philconstruct
DESCRIPTION:Philippine International Contruction Equipment and Building Exhibition \nOur Partner WestPoint Engineering Supplies will bring you the possibility to know more about SMC Products\, please visit this event.
URL:https://smcint.com/event/philconstruct/
LOCATION:SMX Convention Center\, Seashell Lane\, Mall of Asia Complex \, Pasay\, Manila \, 1300\, Philippines
ATTACH;FMTTYPE=image/png:https://smcint.com/wp-content/uploads/2016/08/sshot-1-6.png
END:VEVENT
BEGIN:VEVENT
DTSTART;VALUE=DATE:20161105
DTEND;VALUE=DATE:20161109
DTSTAMP:20260421T002905
CREATED:20160607T153946Z
LAST-MODIFIED:20160608T072951Z
UID:10071-1478304000-1478649599@smcint.com
SUMMARY:The 16th Iran International Electricity Exhibition (IEE)
DESCRIPTION:
URL:https://smcint.com/event/the-16th-iran-international-electricity-exhibition-iee/
LOCATION:Stand: SMC\, Tehran International Permanent Fairground\, Tehran\, Iran (Islamic Republic Of)
ATTACH;FMTTYPE=image/png:https://smcint.com/wp-content/uploads/2016/06/IEE-Iran.png
END:VEVENT
BEGIN:VEVENT
DTSTART;VALUE=DATE:20161031
DTEND;VALUE=DATE:20161105
DTSTAMP:20260421T002905
CREATED:20160607T154028Z
LAST-MODIFIED:20160830T095602Z
UID:10059-1477872000-1478303999@smcint.com
SUMMARY:FIHAV 2016
DESCRIPTION:Feria Internacional de la Habana FIHAV 2016
URL:https://smcint.com/event/feria-internacional-de-la-habana/
LOCATION:Recinto Ferial ExpoCuba\, Carretera del Rocío km 3 1/2\, Arroyo Naranjo\, \, La Habana\, Cuba
ATTACH;FMTTYPE=image/jpeg:https://smcint.com/wp-content/uploads/2016/06/sshot-1.jpg
END:VEVENT
BEGIN:VEVENT
DTSTART;TZID=Europe/Paris:20161019T080000
DTEND;TZID=Europe/Paris:20161022T170000
DTSTAMP:20260421T002905
CREATED:20160826T143834Z
LAST-MODIFIED:20160826T143834Z
UID:10660-1476864000-1477155600@smcint.com
SUMMARY:Philippine Societe of Mechanical Engineers
DESCRIPTION:PSME – Philippine Society of Mechanical Engineers will be held in SMX Convention Center from October 19 to 22. Please visit the booth of our partner Westpoint Engineering Supplies. You can access to more information about SMC Products.
URL:https://smcint.com/event/philippine-societe-of-mechanical-engineers/
LOCATION:SMX Convention Center\, Mall of Asia MOA\, Pasay City \, Manila \, 1300\, Philippines
ATTACH;FMTTYPE=image/png:https://smcint.com/wp-content/uploads/2016/08/sshot-1-6.png
END:VEVENT
BEGIN:VEVENT
DTSTART;VALUE=DATE:20161005
DTEND;VALUE=DATE:20161008
DTSTAMP:20260421T002905
CREATED:20160830T092345Z
LAST-MODIFIED:20160830T094455Z
UID:10687-1475625600-1475884799@smcint.com
SUMMARY:Seoul International Electrical fair
DESCRIPTION:Our Partner Power & Solution is going to participate in the Seoul Int’l Electric Fair. Please visit them to know more about our products. \nOctober 05-07\, 2016\, Seoul\, Korea (South)\nCoex\, World Trade Center
URL:https://smcint.com/event/seoul-international-electrical-fair/
LOCATION:Coex\, World Trade Center\, 159 Samsung-dong\, Gangnam-gu\, Seoul \, 135-731\, Korea\, Republic Of
ATTACH;FMTTYPE=image/png:https://smcint.com/wp-content/uploads/2016/08/sshot-1-8.png
END:VEVENT
BEGIN:VEVENT
DTSTART;VALUE=DATE:20160912
DTEND;VALUE=DATE:20160915
DTSTAMP:20260421T002905
CREATED:20160830T104354Z
LAST-MODIFIED:20160830T104837Z
UID:10701-1473638400-1473897599@smcint.com
SUMMARY:ESMO - IEEE 13th International Conference
DESCRIPTION:SMC along our partner Legacy Power Solutions\, is going to participate in this event from Monday\, September 12 to Thursday\, September 15\, 2016. \nVisit us to know more about our products.
URL:https://smcint.com/event/esmo-ieee-13th-international-conference/
LOCATION:Greater Columbus Convention Center\, OH\, United States
ATTACH;FMTTYPE=image/jpeg:https://smcint.com/wp-content/uploads/2016/08/ESMO-IEEE.jpg
END:VEVENT
BEGIN:VEVENT
DTSTART;VALUE=DATE:20160825
DTEND;VALUE=DATE:20160827
DTSTAMP:20260421T002905
CREATED:20160729T134837Z
LAST-MODIFIED:20160729T134945Z
UID:10554-1472083200-1472255999@smcint.com
SUMMARY:XII SESEP - 2016
DESCRIPTION:XII Seminario del Sector Eléctrico Paraguayo \nCIGRÉ PARAGUAY
URL:https://smcint.com/event/xii-sesep-2016/
LOCATION:Hotel Guarani\, Oliva\, Asunción\, 1302\, Paraguay
ATTACH;FMTTYPE=image/png:https://smcint.com/wp-content/uploads/2016/07/sshot-1-1.png
END:VEVENT
BEGIN:VEVENT
DTSTART;VALUE=DATE:20160822
DTEND;VALUE=DATE:20160827
DTSTAMP:20260421T002905
CREATED:20160607T154115Z
LAST-MODIFIED:20160801T091925Z
UID:9257-1471824000-1472255999@smcint.com
SUMMARY:Cigre Technical Exhibition
DESCRIPTION:International Council on Large Electric Systems
URL:https://smcint.com/event/46th-cigre-session-august-2016/
LOCATION:Stand 106\, Palais del Congrès\, 2 Place de la Porte Maillot\, \, Paris \, Paris\, 75017\, France
ATTACH;FMTTYPE=image/png:https://smcint.com/wp-content/uploads/2016/06/sshot-1-e1470043119745.png
END:VEVENT
BEGIN:VEVENT
DTSTART;VALUE=DATE:20160815
DTEND;VALUE=DATE:20160820
DTSTAMP:20260421T002905
CREATED:20160728T161032Z
LAST-MODIFIED:20160728T161236Z
UID:10539-1471219200-1471651199@smcint.com
SUMMARY:Philippine Sugar Technologists Association Convention
DESCRIPTION:August 15-19\, 2016 \nOur Partner Westpoint is going to parcipate in this 63rd Annual Convention will be held at the Waterfront Hotel & Casino \nLahug\, Cebu City\, Philippines \n 
URL:https://smcint.com/event/philippine-sugar-technologists-association-convention/
LOCATION:Waterfront Hotel & Casino\, Lahug\, Cebu \, Philippines
ATTACH;FMTTYPE=image/png:https://smcint.com/wp-content/uploads/2016/07/sshot-1.png
END:VEVENT
BEGIN:VEVENT
DTSTART;VALUE=DATE:20160621
DTEND;VALUE=DATE:20160624
DTSTAMP:20260421T002905
CREATED:20160607T154147Z
LAST-MODIFIED:20160607T154147Z
UID:9282-1466467200-1466726399@smcint.com
SUMMARY:RAX
DESCRIPTION:The 24th International Exhibition in Israel for Electrical Engineering\, Control\, Instrumentation\, Automation\, Pneumatics\, Lighting Systems\, Energy and Energy Efficiency
URL:https://smcint.com/event/rax-2/
LOCATION:Israel Trade Fairs & Convention Center\, Siderot Rokah Boulevard\, Tel Aviv\, Tel Aviv\, 61210\, Israel
END:VEVENT
END:VCALENDAR