BEGIN:VCALENDAR
VERSION:2.0
PRODID:-//SMCint - ECPv6.15.20//NONSGML v1.0//EN
CALSCALE:GREGORIAN
METHOD:PUBLISH
X-ORIGINAL-URL:https://smcint.com
X-WR-CALDESC:Events for SMCint
REFRESH-INTERVAL;VALUE=DURATION:PT1H
X-Robots-Tag:noindex
X-PUBLISHED-TTL:PT1H
BEGIN:VTIMEZONE
TZID:Europe/Paris
BEGIN:DAYLIGHT
TZOFFSETFROM:+0100
TZOFFSETTO:+0200
TZNAME:CEST
DTSTART:20170326T010000
END:DAYLIGHT
BEGIN:STANDARD
TZOFFSETFROM:+0200
TZOFFSETTO:+0100
TZNAME:CET
DTSTART:20171029T010000
END:STANDARD
BEGIN:DAYLIGHT
TZOFFSETFROM:+0100
TZOFFSETTO:+0200
TZNAME:CEST
DTSTART:20180325T010000
END:DAYLIGHT
BEGIN:STANDARD
TZOFFSETFROM:+0200
TZOFFSETTO:+0100
TZNAME:CET
DTSTART:20181028T010000
END:STANDARD
BEGIN:DAYLIGHT
TZOFFSETFROM:+0100
TZOFFSETTO:+0200
TZNAME:CEST
DTSTART:20190331T010000
END:DAYLIGHT
BEGIN:STANDARD
TZOFFSETFROM:+0200
TZOFFSETTO:+0100
TZNAME:CET
DTSTART:20191027T010000
END:STANDARD
BEGIN:DAYLIGHT
TZOFFSETFROM:+0100
TZOFFSETTO:+0200
TZNAME:CEST
DTSTART:20200329T010000
END:DAYLIGHT
BEGIN:STANDARD
TZOFFSETFROM:+0200
TZOFFSETTO:+0100
TZNAME:CET
DTSTART:20201025T010000
END:STANDARD
END:VTIMEZONE
BEGIN:VEVENT
DTSTART;VALUE=DATE:20191021
DTEND;VALUE=DATE:20191025
DTSTAMP:20260420T120605
CREATED:20190318T114929Z
LAST-MODIFIED:20230518T162547Z
UID:14094-1571616000-1571961599@smcint.com
SUMMARY:Western Protective Relay Conference
DESCRIPTION:WPRC (Western Protective Relay Conference) \nSpokane Conference Center\, \nSpokane\, Washington \nSMC Booth 39
URL:https://smcint.com/event/western-protective-relay-conference/
LOCATION:Spokane Convention Center\, 334 West Spokane Falls Boulevard\, Spokane\, Washington\, United States
CATEGORIES:Webinars
ATTACH;FMTTYPE=image/png:https://smcint.com/wp-content/uploads/2019/03/WPRC-Spokane.png
END:VEVENT
BEGIN:VEVENT
DTSTART;VALUE=DATE:20191008
DTEND;VALUE=DATE:20191012
DTSTAMP:20260420T120605
CREATED:20191008T101620Z
LAST-MODIFIED:20191008T101753Z
UID:15194-1570492800-1570838399@smcint.com
SUMMARY:ENERGY EXPO
DESCRIPTION:Belarusian Energy and Ecology Forum \nPobediteley Avenue\, 20/2 (Football Arena)\,\nMinsk\, Republic of Belarus \nStand F7 Professional Networks Systems / SMC
URL:https://smcint.com/event/energy-expo/
LOCATION:Pobediteley Avenue\, 20/2 (Football Arena)\, Minsk\, Republic of Belarus\, Pobediteley Avenue 20/2 (Football Arena)\, Minsk\, Belarus
ATTACH;FMTTYPE=image/png:https://smcint.com/wp-content/uploads/2019/10/Bielorrusia-Energy-Expo-e1570529762968.png
END:VEVENT
BEGIN:VEVENT
DTSTART;VALUE=DATE:20191007
DTEND;VALUE=DATE:20191010
DTSTAMP:20260420T120605
CREATED:20190930T110751Z
LAST-MODIFIED:20190930T111215Z
UID:15119-1570406400-1570665599@smcint.com
SUMMARY:ARWtr2019
DESCRIPTION:Advance Research Workshop on transformers \nCome and visit us! \n 
URL:https://smcint.com/event/arwtr2019/
LOCATION:Royal Circle of Friendship\, Alfonso XIII\, 14\, Cordoba\, Cordoba\, Spain
ATTACH;FMTTYPE=image/png:https://smcint.com/wp-content/uploads/2019/09/ARWtr.png
END:VEVENT
BEGIN:VEVENT
DTSTART;VALUE=DATE:20191001
DTEND;VALUE=DATE:20191004
DTSTAMP:20260420T120605
CREATED:20190318T114309Z
LAST-MODIFIED:20190318T114517Z
UID:14088-1569888000-1570147199@smcint.com
SUMMARY:ICUEE
DESCRIPTION:ICUEE (International Construction & Utility Equipment Exposition)\, \nKentucky Exposition Center\, \nLouisville\, Kentucky \nBooth SMC
URL:https://smcint.com/event/icuee/
LOCATION:Kentucky Exposition Center\, 937 Phillips \, Louisville\, KY\, 40209\, United States
ATTACH;FMTTYPE=image/png:https://smcint.com/wp-content/uploads/2019/03/ICUEE-Louisville-Oct.-1-3.png
END:VEVENT
BEGIN:VEVENT
DTSTART;VALUE=DATE:20190904
DTEND;VALUE=DATE:20190907
DTSTAMP:20260420T120605
CREATED:20190318T113640Z
LAST-MODIFIED:20190318T113753Z
UID:14081-1567555200-1567814399@smcint.com
SUMMARY:TSDOS
DESCRIPTION:TSDOS (Transmission and Substation Design and Operations Conference) \nEmbassy Suites Dallas \nFrisco Convention Center\, Frisco Texas \nBooth Butler & Land/SMC
URL:https://smcint.com/event/tsdos/
LOCATION:Frisco Convention Center\, 7600 John Q Hammons Dr\,\, Frisco\, TX\, 75034\, United States
ATTACH;FMTTYPE=image/png:https://smcint.com/wp-content/uploads/2019/03/TSDOS-Transmission-and-Substation-Design-and-Operations-Confererence.png
END:VEVENT
BEGIN:VEVENT
DTSTART;VALUE=DATE:20190623
DTEND;VALUE=DATE:20190628
DTSTAMP:20260420T120605
CREATED:20190318T112150Z
LAST-MODIFIED:20190318T112901Z
UID:14075-1561248000-1561679999@smcint.com
SUMMARY:North Carolina Electric Meter School & Grid Technology Conference
DESCRIPTION:North Carolina Metering School & Grid Technology Conference\, Embassy Suites\, Myrtle Beach\, South Carolina –  Booth Plexico / SMC
URL:https://smcint.com/event/north-carolina-electric-meter-school-grid-technology-conference/
LOCATION:Embassy Suites at Kingston Plantation\, 9800 Queensway Boulevard\, Myrtle Beach\, SC\, 289572\, United States
ATTACH;FMTTYPE=image/png:https://smcint.com/wp-content/uploads/2019/03/North-Carolina-Metering-School-Grid-Technology-Conference.png
END:VEVENT
BEGIN:VEVENT
DTSTART;VALUE=DATE:20190617
DTEND;VALUE=DATE:20190621
DTSTAMP:20260420T120605
CREATED:20190318T111525Z
LAST-MODIFIED:20190318T111627Z
UID:14068-1560729600-1561075199@smcint.com
SUMMARY:Duke Energy Safety Week
DESCRIPTION:Duke Energy Safety Week\, Shelby\, Indiana – Booth Legacy / SMC
URL:https://smcint.com/event/duke-energy-safety-week/
LOCATION:Shelby\, IN\, United States
ATTACH;FMTTYPE=image/png:https://smcint.com/wp-content/uploads/2019/03/Duke-Energy-Safety-Week.png
END:VEVENT
BEGIN:VEVENT
DTSTART;VALUE=DATE:20190603
DTEND;VALUE=DATE:20190607
DTSTAMP:20260420T120605
CREATED:20190318T120510Z
LAST-MODIFIED:20190409T135946Z
UID:14107-1559520000-1559865599@smcint.com
SUMMARY:Cired
DESCRIPTION:Cired 2019 \n3 – 6 June\, 2019 \nIFEMA\, Madrid\, \nSpain \nStand B12 \n 
URL:https://smcint.com/event/cired/
LOCATION:IFEMA\, Av. Partenón 5\, Madrid\, Madrid\, 28042\, Spain
ATTACH;FMTTYPE=image/png:https://smcint.com/wp-content/uploads/2019/03/Cired.png
END:VEVENT
BEGIN:VEVENT
DTSTART;VALUE=DATE:20190508
DTEND;VALUE=DATE:20190511
DTSTAMP:20260420T120605
CREATED:20190404T145925Z
LAST-MODIFIED:20190405T140914Z
UID:14152-1557273600-1557532799@smcint.com
SUMMARY:MEA - Midwest Energy Association
DESCRIPTION:Midwest Energy Association\nElectric Operations Technical & Leadership Summit – Attendee/Utility\nCrowne Plaza Springfield\n3000 S Dirksen Pkwy\nSpringfield\, IL 62703 \nBooth: Instruments & Technology / SMC
URL:https://smcint.com/event/mea-midwest-energy-association/
LOCATION:Crowne Plaza Springfield\, 3000 S Dirksen Pkwy\, Springfield\, IL\, 62703\, United States
ATTACH;FMTTYPE=image/jpeg:https://smcint.com/wp-content/uploads/2019/04/mea.jpg
END:VEVENT
BEGIN:VEVENT
DTSTART;VALUE=DATE:20190502
DTEND;VALUE=DATE:20190503
DTSTAMP:20260420T120605
CREATED:20190404T151024Z
LAST-MODIFIED:20190404T151024Z
UID:14159-1556755200-1556841599@smcint.com
SUMMARY:SWEDE 2019
DESCRIPTION:SWEDE 2019 \nMarriott Hotel & Golf Club \nFort Worth\, Texas \nBooth Butler & Land / SMC
URL:https://smcint.com/event/swede-2019/
LOCATION:Marriot Hotel and Golf Club\, 3300 Championship Pkwy\, Fort Worth\, TX\, 76177\, United States
ATTACH;FMTTYPE=image/jpeg:https://smcint.com/wp-content/uploads/2019/04/Swede-2019.jpg
END:VEVENT
BEGIN:VEVENT
DTSTART;VALUE=DATE:20190501
DTEND;VALUE=DATE:20190503
DTSTAMP:20260420T120605
CREATED:20190315T154906Z
LAST-MODIFIED:20190315T154925Z
UID:14050-1556668800-1556841599@smcint.com
SUMMARY:E&O
DESCRIPTION:E&O (Engineer & Operations Conference)\, Hilton Virginia Beach Hotel\, Virginia Beach\, Virginia – Booth SMC
URL:https://smcint.com/event/eo/
LOCATION:La Habana
ATTACH;FMTTYPE=image/png:https://smcint.com/wp-content/uploads/2019/03/EO-Engineer-Operations-Conference-1.png
END:VEVENT
BEGIN:VEVENT
DTSTART;VALUE=DATE:20190430
DTEND;VALUE=DATE:20190505
DTSTAMP:20260420T120605
CREATED:20190318T105432Z
LAST-MODIFIED:20190318T105432Z
UID:14062-1556582400-1557014399@smcint.com
SUMMARY:Georgia Tech Relay Conference
DESCRIPTION:Georgia Tech Hotel and Conference Center\, Atlanta\, Georgia – Booth SMC
URL:https://smcint.com/event/georgia-tech-relay-conference/
LOCATION:Georgia Tech Hotel\, 800 Spring St. NW\, Atlanta\, 30308\, United States
ATTACH;FMTTYPE=image/png:https://smcint.com/wp-content/uploads/2019/03/Georgia-Tech-Relay-Conference.png
END:VEVENT
BEGIN:VEVENT
DTSTART;VALUE=DATE:20190426
DTEND;VALUE=DATE:20190428
DTSTAMP:20260420T120605
CREATED:20190315T154220Z
LAST-MODIFIED:20190315T154312Z
UID:14043-1556236800-1556409599@smcint.com
SUMMARY:PEARL
DESCRIPTION:PEARL (Professional Electrical Apparatus Reconditioning League)\, JW Marriot Hotel\, Grand Rapids Michigan – Booth SMC
URL:https://smcint.com/event/pearl/
LOCATION:JW Marriot Hotel\, Grand Rapids\, Michigan\, United States
ATTACH;FMTTYPE=image/png:https://smcint.com/wp-content/uploads/2019/03/PEARL-Professional-Electrical-Apparatus-Reconditioning-League.png
END:VEVENT
BEGIN:VEVENT
DTSTART;VALUE=DATE:20190409
DTEND;VALUE=DATE:20190412
DTSTAMP:20260420T120605
CREATED:20190315T160304Z
LAST-MODIFIED:20190315T160304Z
UID:14057-1554768000-1555027199@smcint.com
SUMMARY:NWPPA
DESCRIPTION:NWPPA (Northwest Public Power Association) Spokane Conference Center\, Spokane\, Washington – Booth McLaren/SMC
URL:https://smcint.com/event/nwppa/
LOCATION:Spokane Convention Center\, 334 West Spokane Falls Boulevard\, Spokane\, Washington\, United States
ATTACH;FMTTYPE=image/png:https://smcint.com/wp-content/uploads/2019/03/NWPPA-Northwest-Public-Power-Association.png
END:VEVENT
BEGIN:VEVENT
DTSTART;VALUE=DATE:20190320
DTEND;VALUE=DATE:20190323
DTSTAMP:20260420T120605
CREATED:20190315T152822Z
LAST-MODIFIED:20190315T152822Z
UID:14036-1553040000-1553299199@smcint.com
SUMMARY:ECNE
DESCRIPTION:March 20-22 –  Plaza Hotel\, Warwick Rhode Island
URL:https://smcint.com/event/ecne/
LOCATION:Plaza Hotel\, Warwick\, Rhode Island\, Plaza Hotel\, Warwick\, RI\, United States
ATTACH;FMTTYPE=image/png:https://smcint.com/wp-content/uploads/2019/03/Energy-council-of-Northeast.png
END:VEVENT
BEGIN:VEVENT
DTSTART;VALUE=DATE:20190311
DTEND;VALUE=DATE:20190313
DTSTAMP:20260420T120605
CREATED:20181221T150216Z
LAST-MODIFIED:20190110T155855Z
UID:13659-1552262400-1552435199@smcint.com
SUMMARY:NETA
DESCRIPTION:Power Test Conference \nNational Electrical Testing Association \nGaylord Texan Resort Center \nGrapevine\, Texas \nStand 813 – NorAM SMC
URL:https://smcint.com/event/neta/
LOCATION:Gaylord Texan Resort Center\, 1501 Gaylord Trail\,\, Grapevine\, TX\, United States
ATTACH;FMTTYPE=image/png:https://smcint.com/wp-content/uploads/2018/12/NETA.png
END:VEVENT
BEGIN:VEVENT
DTSTART;VALUE=DATE:20190305
DTEND;VALUE=DATE:20190308
DTSTAMP:20260420T120605
CREATED:20181221T085113Z
LAST-MODIFIED:20181221T092034Z
UID:13651-1551744000-1552003199@smcint.com
SUMMARY:Middle East Electricity
DESCRIPTION:Dubai World Trade Centre \nU.A.E. \nCome and visit us\, our Stand: H3.H40 \n 
URL:https://smcint.com/event/middle-east-electricity-3/
LOCATION:Dubai World Trade Centre\, Dubai\, Dubai\, United Arab Emirates
ATTACH;FMTTYPE=image/png:https://smcint.com/wp-content/uploads/2018/12/MEE.png
END:VEVENT
BEGIN:VEVENT
DTSTART;VALUE=DATE:20190205
DTEND;VALUE=DATE:20190208
DTSTAMP:20260420T120605
CREATED:20181221T084153Z
LAST-MODIFIED:20181221T084153Z
UID:13643-1549324800-1549583999@smcint.com
SUMMARY:Distributech
DESCRIPTION:Ernst N. Morial Convention Center \nNew Orleans\, LA \nStand 214 – NorAM SMC \nSee our new micro ohmmeter! \n 
URL:https://smcint.com/event/distributech/
LOCATION:Ernest N. Morial Convention Center\, Stand 214\, New Orleans\, LA\, United States
ATTACH;FMTTYPE=image/png:https://smcint.com/wp-content/uploads/2018/12/Distributech.png
END:VEVENT
BEGIN:VEVENT
DTSTART;VALUE=DATE:20190108
DTEND;VALUE=DATE:20190111
DTSTAMP:20260420T120605
CREATED:20181221T083111Z
LAST-MODIFIED:20181221T084313Z
UID:13636-1546905600-1547164799@smcint.com
SUMMARY:SYNC Conference
DESCRIPTION:Fredericton\, New Brunswick \nCanada \nStand: NorAm SMC \nCome and see our Circuit Breaker!
URL:https://smcint.com/event/sync-conference/
LOCATION:Fredericton\, New Brunswick\, Canada
ATTACH;FMTTYPE=image/png:https://smcint.com/wp-content/uploads/2018/12/SYNC.png
END:VEVENT
BEGIN:VEVENT
DTSTART;VALUE=DATE:20181113
DTEND;VALUE=DATE:20181117
DTSTAMP:20260420T120605
CREATED:20180914T070115Z
LAST-MODIFIED:20180914T070356Z
UID:13510-1542067200-1542412799@smcint.com
SUMMARY:Matelec
DESCRIPTION:We will be available in our booth 6B02B \nKnow the latest products manufactured by SMC!
URL:https://smcint.com/event/matelec/
LOCATION:IFEMA\, Av. Partenón 5\, Madrid\, Madrid\, 28042\, Spain
ATTACH;FMTTYPE=image/jpeg:https://smcint.com/wp-content/uploads/2018/09/Matelec-2018.jpg
END:VEVENT
BEGIN:VEVENT
DTSTART;VALUE=DATE:20181029
DTEND;VALUE=DATE:20181103
DTSTAMP:20260420T120605
CREATED:20180810T072231Z
LAST-MODIFIED:20180810T072231Z
UID:13474-1540771200-1541203199@smcint.com
SUMMARY:Fihav 2018
DESCRIPTION:Come and visit us\, Stand: P5-06 \nSee more related Circuit Breaker Tester! \nSee you soon! \n 
URL:https://smcint.com/event/fihav-2018/
LOCATION:Recinto Ferial ExpoCuba\, Carretera del Rocío km 3 1/2\, Arroyo Naranjo\, \, La Habana\, Cuba
ATTACH;FMTTYPE=image/gif:https://smcint.com/wp-content/uploads/2018/08/Fihav-2018.gif
END:VEVENT
BEGIN:VEVENT
DTSTART;VALUE=DATE:20181015
DTEND;VALUE=DATE:20181019
DTSTAMP:20260420T120605
CREATED:20180611T111346Z
LAST-MODIFIED:20180611T111528Z
UID:13282-1539561600-1539907199@smcint.com
SUMMARY:WPRC – Western Protective Relay Conference
DESCRIPTION:We hope to meet you at Booth 83\, NorAmSMC \nAll in Electrical Test Technologies: Circuit Breaker Test Set and more \n 
URL:https://smcint.com/event/wprc-western-protective-relay-conference/
LOCATION:Spokane Convention Center\, 334 West Spokane Falls Boulevard\, Spokane\, Washington\, United States
ATTACH;FMTTYPE=image/png:https://smcint.com/wp-content/uploads/2018/06/WPRC.png
END:VEVENT
BEGIN:VEVENT
DTSTART;VALUE=DATE:20180926
DTEND;VALUE=DATE:20180928
DTSTAMP:20260420T120605
CREATED:20180810T134942Z
LAST-MODIFIED:20180810T135231Z
UID:13479-1537920000-1538092799@smcint.com
SUMMARY:Coiltech
DESCRIPTION:Stand: 6-C32 ASITA ITALIA SRL
URL:https://smcint.com/event/coiltech-2/
LOCATION:Pordenone Fiere\, Viale Treviso\, 1\, Pordenone\, 33170\, Italy
ATTACH;FMTTYPE=image/jpeg:https://smcint.com/wp-content/uploads/2018/08/coiltech.jpg
ORGANIZER;CN="QuickFairs":MAILTO:info@quickfairs.net
END:VEVENT
BEGIN:VEVENT
DTSTART;VALUE=DATE:20180917
DTEND;VALUE=DATE:20180921
DTSTAMP:20260420T120605
CREATED:20180611T110307Z
LAST-MODIFIED:20180611T144717Z
UID:13279-1537142400-1537487999@smcint.com
SUMMARY:Southeastern Distribution Apparatus School
DESCRIPTION:We are waiting for you in our Booth: SMC \nAll in Circuit Breaker tester! \n  \n 
URL:https://smcint.com/event/southeastern-distribution-apparatus-school-2/
LOCATION:La Habana
END:VEVENT
BEGIN:VEVENT
DTSTART;VALUE=DATE:20180912
DTEND;VALUE=DATE:20180915
DTSTAMP:20260420T120605
CREATED:20180516T093658Z
LAST-MODIFIED:20180516T094627Z
UID:12882-1536710400-1536969599@smcint.com
SUMMARY:Electric & Power\, Vietnam 2018
DESCRIPTION:Our Representative the company HainTec will attend\, Join us in the Booth B17 \nSMC Circuit Breaker Test Set will be available\, ask for a Demo! \n  \n  \n  \n  \n 
URL:https://smcint.com/event/electric-power-vietnam-2018/
LOCATION:Saigon Exhibition and Convention Centre\, 799 Nguyễn Văn Linh\, Tân Phú\, Quận 7\,\, Ho Chi Minh City\, Viet Nam
ATTACH;FMTTYPE=image/jpeg:https://smcint.com/wp-content/uploads/2018/05/sshot-1.jpg
END:VEVENT
BEGIN:VEVENT
DTSTART;VALUE=DATE:20180911
DTEND;VALUE=DATE:20180914
DTSTAMP:20260420T120605
CREATED:20180531T152646Z
LAST-MODIFIED:20180604T135216Z
UID:13236-1536624000-1536883199@smcint.com
SUMMARY:31st Bielsko–Biała International Power Industry Fair ENERGETAB 2018
DESCRIPTION:Come to Energetab\, and visit us!! \nAll in Electrical Test Technologies!
URL:https://smcint.com/event/31st-bielsko-biala-international-power-industry-fair-energetab-2018/
LOCATION:43-316 Bielsko-Biała\, al. Armii Krajowej 220\, 43-316\, Poland
END:VEVENT
BEGIN:VEVENT
DTSTART;VALUE=DATE:20180906
DTEND;VALUE=DATE:20180909
DTSTAMP:20260420T120605
CREATED:20180611T152428Z
LAST-MODIFIED:20180611T152959Z
UID:13292-1536192000-1536451199@smcint.com
SUMMARY:Elettrexpo
DESCRIPTION:Visit Elettrexpo\, we will be there in Asita Stand. \nCome to see Our Circuit Breaker Analyzer
URL:https://smcint.com/event/elettrexpo/
LOCATION:Exhibition Elettrexpo\, Arezzo\, Toscana\, Italy
END:VEVENT
BEGIN:VEVENT
DTSTART;VALUE=DATE:20180826
DTEND;VALUE=DATE:20180901
DTSTAMP:20260420T120605
CREATED:20171030T121021Z
LAST-MODIFIED:20180810T140437Z
UID:12286-1535241600-1535759999@smcint.com
SUMMARY:Cigre 2018
DESCRIPTION:SMC stand: 299 A20
URL:https://smcint.com/event/cigre-2018/
LOCATION:Palais del Congrès\, 2 Place de la Porte Maillot\, \, Paris \, Paris\, 75017\, France
ATTACH;FMTTYPE=image/png:https://smcint.com/wp-content/uploads/2017/10/CIGRE-logo.png
END:VEVENT
BEGIN:VEVENT
DTSTART;VALUE=DATE:20180717
DTEND;VALUE=DATE:20180720
DTSTAMP:20260420T120605
CREATED:20180710T080213Z
LAST-MODIFIED:20180710T080213Z
UID:13353-1531785600-1532044799@smcint.com
SUMMARY:Tenaga Expo and Forum
DESCRIPTION:We hope to meet you at All Mesure Technology Stand \nAll in Electrical Test Technologies: 3 Phase Relay Test Set
URL:https://smcint.com/event/tenaga-expo-forum/
LOCATION:Convention Centre\, Stall 7\, Jalan Pinang\,\, Kuala Lumpur City Centre\, Kuala Lumpur\, 50088\, Malaysia
ATTACH;FMTTYPE=image/png:https://smcint.com/wp-content/uploads/2018/07/Tenaga-Logo.png
END:VEVENT
BEGIN:VEVENT
DTSTART;VALUE=DATE:20180624
DTEND;VALUE=DATE:20180629
DTSTAMP:20260420T120605
CREATED:20180611T105238Z
LAST-MODIFIED:20180611T105903Z
UID:13272-1529798400-1530230399@smcint.com
SUMMARY:North Carolina Meter School & Conference
DESCRIPTION:Come and visit us in our Booth: SMC \nAll in 3 phase relay test set!
URL:https://smcint.com/event/north-carolina-meter-school-conference/
LOCATION:Embassy Suites at Kingston Plantation\, 9800 Queensway Boulevard\, Myrtle Beach\, NC\, 29572\, United States
ATTACH;FMTTYPE=image/png:https://smcint.com/wp-content/uploads/2018/06/NC-State-University.png
END:VEVENT
END:VCALENDAR